BEGIN:VCALENDAR
VERSION:2.0
PRODID:-//Rivière-du-Nord (10C) - ECPv5.14.0.4//NONSGML v1.0//EN
CALSCALE:GREGORIAN
METHOD:PUBLISH
X-WR-CALNAME:Rivière-du-Nord (10C)
X-ORIGINAL-URL:https://rivieredunord.areq.lacsq.org
X-WR-CALDESC:évènements pour Rivière-du-Nord (10C)
BEGIN:VTIMEZONE
TZID:America/New_York
BEGIN:DAYLIGHT
TZOFFSETFROM:-0500
TZOFFSETTO:-0400
TZNAME:EDT
DTSTART:20260308T070000
END:DAYLIGHT
BEGIN:STANDARD
TZOFFSETFROM:-0400
TZOFFSETTO:-0500
TZNAME:EST
DTSTART:20261101T060000
END:STANDARD
END:VTIMEZONE
BEGIN:VEVENT
DTSTART;TZID=America/New_York:20260331T133000
DTEND;TZID=America/New_York:20260331T133000
DTSTAMP:20260421T075952
CREATED:20250918T144108Z
LAST-MODIFIED:20250918T144111Z
UID:8536-1774963800-1774963800@rivieredunord.areq.lacsq.org
SUMMARY:Conférence: L’AIDE MÉDICALE À MOURIR
DESCRIPTION:À LAVAL\nCarrefour Axion 50 plus\n435\, boulevard Curé-Labelle sud\, Laval\, salle 221\nRéservation : 450 978-0807 • aqdrlaval@aqdr.org \nLIEUX DE\nNOS ÉVÉNEMENTS LAVAL\nSAINT-JÉRÔME\nRÉSERVATIONS\nSachez qu’à moins d’avis contraire ($)\,\nnos événements et conférences sont gratuits.\nToutefois\, il est obligatoire de faire une\nréservation à l’avance \n31 MARS 2026 13 h 30\nL’AIDE MÉDICALE À MOURIR\nCette conférence vous permettra de vous renseigner sur la situation actuelle\net l’avenir de l’aide médicale à mourir au Québec et au Canada\, et de répondre\naux questions concernant les soins de fin de vie\, dont l’aide médicale à mourir.\nPrésenté par : Association québécoise pour le droit de mourir dans la dignité
URL:https://rivieredunord.areq.lacsq.org/event/conference-laide-medicale-a-mourir/
END:VEVENT
END:VCALENDAR